BEGIN:VCALENDAR
VERSION:2.0
PRODID:icalendar-ruby
CALSCALE:GREGORIAN
METHOD:PUBLISH
BEGIN:VEVENT
DTSTAMP:20260423T210126Z
UID:179-357871@desertspringsbaptist.org
DTSTART:20270102T150000Z
DTEND:20270102T160000Z
CLASS:PUBLIC
CREATED:20251205T163405
DESCRIPTION:
LAST-MODIFIED:20251205T163405
LOCATION:
SUMMARY:Outreach
URL;VALUE=URI:https://www.desertspringsbaptist.org/events/outreach--179/202
 7-01-02
END:VEVENT
END:VCALENDAR
