BEGIN:VCALENDAR
VERSION:2.0
PRODID:icalendar-ruby
CALSCALE:GREGORIAN
METHOD:PUBLISH
BEGIN:VEVENT
DTSTAMP:20260423T185936Z
UID:179-357870@desertspringsbaptist.org
DTSTART:20261219T150000Z
DTEND:20261219T160000Z
CLASS:PUBLIC
CREATED:20251205T163405
DESCRIPTION:
LAST-MODIFIED:20251205T163405
LOCATION:
SUMMARY:Outreach
URL;VALUE=URI:https://www.desertspringsbaptist.org/events/outreach--179/202
 6-12-19
END:VEVENT
END:VCALENDAR
